BEGIN:VCALENDAR
VERSION:2.0
PRODID:icalendar-ruby
CALSCALE:GREGORIAN
METHOD:PUBLISH
BEGIN:VTIMEZONE
TZID:Australia/Brisbane
BEGIN:STANDARD
DTSTART:19920301T020000
TZOFFSETFROM:+1100
TZOFFSETTO:+1000
TZNAME:AEST
END:STANDARD
END:VTIMEZONE
BEGIN:VEVENT
DTSTAMP:20260424T142857Z
UID:inspection_3012914
DTSTART;TZID=Australia/Brisbane:20260429T163000
DTEND;TZID=Australia/Brisbane:20260429T164500
CLASS:PUBLIC
CREATED:20260424T163918
DESCRIPTION: 
LAST-MODIFIED:20260424T163918
LOCATION:2 / 40 Darrambal Street\, SURFERS PARADISE QLD 4217\, Australia
SUMMARY:2 / 40 Darrambal Street\,  Inspection
URL;VALUE=URI:http://www.obqld.com.au/
END:VEVENT
END:VCALENDAR
