BEGIN:VCALENDAR
VERSION:2.0
PRODID:icalendar-ruby
CALSCALE:GREGORIAN
METHOD:PUBLISH
BEGIN:VTIMEZONE
TZID:Australia/Brisbane
BEGIN:STANDARD
DTSTART:19920301T020000
TZOFFSETFROM:+1100
TZOFFSETTO:+1000
TZNAME:AEST
END:STANDARD
END:VTIMEZONE
BEGIN:VEVENT
DTSTAMP:20260424T125409Z
UID:inspection_3012928
DTSTART;TZID=Australia/Brisbane:20260428T154500
DTEND;TZID=Australia/Brisbane:20260428T160000
CLASS:PUBLIC
CREATED:20260424T164723
DESCRIPTION: 
LAST-MODIFIED:20260424T164723
LOCATION:17 / 2940 Gold Coast Highway\, SURFERS PARADISE QLD 4217\, Austral
 ia
SUMMARY:17 / 2940 Gold Coast Highway\,  Inspection
URL;VALUE=URI:http://www.obqld.com.au/
END:VEVENT
END:VCALENDAR
